BEGIN:VCALENDAR
VERSION:2.0
PRODID:-//rambouillet mlidf - ECPv6.15.20//NONSGML v1.0//EN
CALSCALE:GREGORIAN
METHOD:PUBLISH
X-ORIGINAL-URL:http://rambouillet-mlidf.org
X-WR-CALDESC:Évènements pour rambouillet mlidf
REFRESH-INTERVAL;VALUE=DURATION:PT1H
X-Robots-Tag:noindex
X-PUBLISHED-TTL:PT1H
BEGIN:VTIMEZONE
TZID:Europe/Paris
BEGIN:DAYLIGHT
TZOFFSETFROM:+0100
TZOFFSETTO:+0200
TZNAME:CEST
DTSTART:20160327T010000
END:DAYLIGHT
BEGIN:STANDARD
TZOFFSETFROM:+0200
TZOFFSETTO:+0100
TZNAME:CET
DTSTART:20161030T010000
END:STANDARD
BEGIN:DAYLIGHT
TZOFFSETFROM:+0100
TZOFFSETTO:+0200
TZNAME:CEST
DTSTART:20170326T010000
END:DAYLIGHT
BEGIN:STANDARD
TZOFFSETFROM:+0200
TZOFFSETTO:+0100
TZNAME:CET
DTSTART:20171029T010000
END:STANDARD
BEGIN:DAYLIGHT
TZOFFSETFROM:+0100
TZOFFSETTO:+0200
TZNAME:CEST
DTSTART:20180325T010000
END:DAYLIGHT
BEGIN:STANDARD
TZOFFSETFROM:+0200
TZOFFSETTO:+0100
TZNAME:CET
DTSTART:20181028T010000
END:STANDARD
END:VTIMEZONE
BEGIN:VEVENT
DTSTART;VALUE=DATE:20170309
DTEND;VALUE=DATE:20170310
DTSTAMP:20260424T053112
CREATED:20170306T160123Z
LAST-MODIFIED:20170306T160123Z
UID:1038-1489017600-1489103999@rambouillet-mlidf.org
SUMMARY:Marathon de l'Emploi des Missions Locales 78
DESCRIPTION:L’ADML78 (Association des Directeurs des Missions Locales des Yvelines) organise\, en partenariat avec les Missions Locales du 78\, un Marathon de l’emploi afin de favoriser l’insertion professionnelle des jeunes ! \nLa Mission Locale Intercommunale de Rambouillet y participe en envoyant ses jeunes à la rencontre des entreprises locales. \nAu cours de la journée\, plus de 80 jeunes répartis sur le territoire des Yvelines iront à la rencontre des entreprises locales afin de faire connaitre le rôle des Missions Locales\, mais aussi pour récolter les offres d’emploi\, de stage et l’alternance des entreprises. Le but étant de créer un réel partenariat entre les entreprises et les Missions Locales\, afin de favoriser et développer l’insertion professionnelle des jeunes sur le territoire. \nL’occasion pour les jeunes de découvrir le monde du travail et de rencontrer directement les employeurs !
URL:http://rambouillet-mlidf.org/agenda/marathon-de-lemploi-des-missions-locales-78/
LOCATION:Ville de Rambouillet\, Rambouillet\, 78120
END:VEVENT
BEGIN:VEVENT
DTSTART;TZID=Europe/Paris:20170315T140000
DTEND;TZID=Europe/Paris:20170315T160000
DTSTAMP:20260424T053112
CREATED:20170306T144923Z
LAST-MODIFIED:20170306T144923Z
UID:1034-1489586400-1489593600@rambouillet-mlidf.org
SUMMARY:L'Alternance\, une solution pour tous
DESCRIPTION:Dans le cadre de la 2ème édition de la Semaine Nationale des Missions Locales\, qui se tiendra du 09 au 17 mars 2017\, votre Mission Locale de Rambouillet ouvre ses portes pour vous présenter les avantages de l’alternance ! \nVenez assister aux témoignages d’employeurs\, de CFA et d’apprentis qui relateront et expliqueront leur point de vue sur l’alternance\, et ce que ça leur apporte ! L’occasion de mieux comprendre en quoi ça consiste\, mais aussi d’échanger et discuter avec chaque acteur ! \nLes conseillers de la Mission Locale seront également présents pour discuter de votre projet professionnel.
URL:http://rambouillet-mlidf.org/agenda/lalternance-une-solution-pour-tous/
LOCATION:Mission Locale Intercommunale de Rambouillet\, 19\, rue de Clairefontaine\, Rambouillet\, 78120\, France
ATTACH;FMTTYPE=image/jpeg:http://rambouillet-mlidf.org/wp-content/uploads/2017/01/logo-snml-2017-petit.jpg
END:VEVENT
BEGIN:VEVENT
DTSTART;TZID=Europe/Paris:20170316T130000
DTEND;TZID=Europe/Paris:20170316T170000
DTSTAMP:20260424T053112
CREATED:20170306T155305Z
LAST-MODIFIED:20170306T155305Z
UID:1037-1489669200-1489683600@rambouillet-mlidf.org
SUMMARY:Entreprises / jeunes : partageons nos valeurs
DESCRIPTION:Dans le cadre de la 2ème édition de la Semaine Nationale des Missions Locales\, qui se tiendra du 09 au 17 mars 2017\, votre Mission Locale de Rambouillet ouvre ses portes pour développer\, encourager et valoriser les relations entres les jeunes et les entreprises  ! \nUn débat ouvert à tous se déroulera de 15h à 16h\, avec la présence d’entreprises\, les conseillers et parrains de la Mission Locale\, ainsi que toute personne souhaitant y participer ! Le débat tournera autour du thème du monde du travail.
URL:http://rambouillet-mlidf.org/agenda/entreprises-jeunes-partageons-nos-valeurs/
LOCATION:Mission Locale Intercommunale de Rambouillet\, 19\, rue de Clairefontaine\, Rambouillet\, 78120\, France
END:VEVENT
END:VCALENDAR