BEGIN:VCALENDAR
VERSION:2.0
PRODID:-//rambouillet mlidf - ECPv6.15.20//NONSGML v1.0//EN
CALSCALE:GREGORIAN
METHOD:PUBLISH
X-WR-CALNAME:rambouillet mlidf
X-ORIGINAL-URL:http://rambouillet-mlidf.org
X-WR-CALDESC:Évènements pour rambouillet mlidf
REFRESH-INTERVAL;VALUE=DURATION:PT1H
X-Robots-Tag:noindex
X-PUBLISHED-TTL:PT1H
BEGIN:VTIMEZONE
TZID:Europe/Paris
BEGIN:DAYLIGHT
TZOFFSETFROM:+0100
TZOFFSETTO:+0200
TZNAME:CEST
DTSTART:20160327T010000
END:DAYLIGHT
BEGIN:STANDARD
TZOFFSETFROM:+0200
TZOFFSETTO:+0100
TZNAME:CET
DTSTART:20161030T010000
END:STANDARD
BEGIN:DAYLIGHT
TZOFFSETFROM:+0100
TZOFFSETTO:+0200
TZNAME:CEST
DTSTART:20170326T010000
END:DAYLIGHT
BEGIN:STANDARD
TZOFFSETFROM:+0200
TZOFFSETTO:+0100
TZNAME:CET
DTSTART:20171029T010000
END:STANDARD
BEGIN:DAYLIGHT
TZOFFSETFROM:+0100
TZOFFSETTO:+0200
TZNAME:CEST
DTSTART:20180325T010000
END:DAYLIGHT
BEGIN:STANDARD
TZOFFSETFROM:+0200
TZOFFSETTO:+0100
TZNAME:CET
DTSTART:20181028T010000
END:STANDARD
END:VTIMEZONE
BEGIN:VEVENT
DTSTART;TZID=Europe/Paris:20170629T090000
DTEND;TZID=Europe/Paris:20170629T130000
DTSTAMP:20260424T002600
CREATED:20170620T095835Z
LAST-MODIFIED:20170620T095949Z
UID:1121-1498726800-1498741200@rambouillet-mlidf.org
SUMMARY:Apprentissage Dating
DESCRIPTION:Inscription obligatoire auprès de la Mission Locale \n \nVous avez entre 15 et 30 ans\, souhaitez suivre une formation en alternance\, du CAP au Master\, et êtes à la recherche d’un employeur ? \nVenez postuler auprès des entreprises grâce à l’Apprentissage Dating ! \nPlus d’informations sur l’événement \nContacter la Mission Locale
URL:http://rambouillet-mlidf.org/agenda/apprentissage-dating/
LOCATION:Mission Locale Intercommunale de Rambouillet\, 19\, rue de Clairefontaine\, Rambouillet\, 78120\, France
END:VEVENT
END:VCALENDAR