BEGIN:VCALENDAR
VERSION:2.0
PRODID:-//rambouillet mlidf - ECPv6.15.20//NONSGML v1.0//EN
CALSCALE:GREGORIAN
METHOD:PUBLISH
X-WR-CALNAME:rambouillet mlidf
X-ORIGINAL-URL:http://rambouillet-mlidf.org
X-WR-CALDESC:Évènements pour rambouillet mlidf
REFRESH-INTERVAL;VALUE=DURATION:PT1H
X-Robots-Tag:noindex
X-PUBLISHED-TTL:PT1H
BEGIN:VTIMEZONE
TZID:Europe/Paris
BEGIN:DAYLIGHT
TZOFFSETFROM:+0100
TZOFFSETTO:+0200
TZNAME:CEST
DTSTART:20160327T010000
END:DAYLIGHT
BEGIN:STANDARD
TZOFFSETFROM:+0200
TZOFFSETTO:+0100
TZNAME:CET
DTSTART:20161030T010000
END:STANDARD
BEGIN:DAYLIGHT
TZOFFSETFROM:+0100
TZOFFSETTO:+0200
TZNAME:CEST
DTSTART:20170326T010000
END:DAYLIGHT
BEGIN:STANDARD
TZOFFSETFROM:+0200
TZOFFSETTO:+0100
TZNAME:CET
DTSTART:20171029T010000
END:STANDARD
BEGIN:DAYLIGHT
TZOFFSETFROM:+0100
TZOFFSETTO:+0200
TZNAME:CEST
DTSTART:20180325T010000
END:DAYLIGHT
BEGIN:STANDARD
TZOFFSETFROM:+0200
TZOFFSETTO:+0100
TZNAME:CET
DTSTART:20181028T010000
END:STANDARD
END:VTIMEZONE
BEGIN:VEVENT
DTSTART;TZID=Europe/Paris:20170127T120000
DTEND;TZID=Europe/Paris:20170127T180000
DTSTAMP:20260424T095934
CREATED:20170125T091209Z
LAST-MODIFIED:20170213T115341Z
UID:942-1485518400-1485540000@rambouillet-mlidf.org
SUMMARY:Galerie des métiers et de la formation
DESCRIPTION:Le vendredi 27 janvier 2017 se tiendra la Galerie des Métiers et de la Formation\, dans votre centre commercial Carrefour bel Air de Rambouillet !
URL:http://rambouillet-mlidf.org/agenda/galerie-des-metiers-et-de-la-formation/
LOCATION:Carrefour Rambouillet\, Amporelle\, route Nationale 10\, Centre Commercial Du Bel Air\, Rambouillet\, 78120\, France
END:VEVENT
END:VCALENDAR